BEGIN:VCALENDAR
VERSION:2.0
PRODID:-//Friends of Sheri Capehart Nature Preserve - ECPv6.15.18//NONSGML v1.0//EN
CALSCALE:GREGORIAN
METHOD:PUBLISH
X-ORIGINAL-URL:https://www.friendsofscnp.org
X-WR-CALDESC:Events for Friends of Sheri Capehart Nature Preserve
REFRESH-INTERVAL;VALUE=DURATION:PT1H
X-Robots-Tag:noindex
X-PUBLISHED-TTL:PT1H
BEGIN:VTIMEZONE
TZID:America/Chicago
BEGIN:DAYLIGHT
TZOFFSETFROM:-0600
TZOFFSETTO:-0500
TZNAME:CDT
DTSTART:20240310T080000
END:DAYLIGHT
BEGIN:STANDARD
TZOFFSETFROM:-0500
TZOFFSETTO:-0600
TZNAME:CST
DTSTART:20241103T070000
END:STANDARD
BEGIN:DAYLIGHT
TZOFFSETFROM:-0600
TZOFFSETTO:-0500
TZNAME:CDT
DTSTART:20250309T080000
END:DAYLIGHT
BEGIN:STANDARD
TZOFFSETFROM:-0500
TZOFFSETTO:-0600
TZNAME:CST
DTSTART:20251102T070000
END:STANDARD
BEGIN:DAYLIGHT
TZOFFSETFROM:-0600
TZOFFSETTO:-0500
TZNAME:CDT
DTSTART:20260308T080000
END:DAYLIGHT
BEGIN:STANDARD
TZOFFSETFROM:-0500
TZOFFSETTO:-0600
TZNAME:CST
DTSTART:20261101T070000
END:STANDARD
END:VTIMEZONE
BEGIN:VEVENT
DTSTART;TZID=America/Chicago:20250412T090000
DTEND;TZID=America/Chicago:20250412T110000
DTSTAMP:20260419T165118
CREATED:20250205T184047Z
LAST-MODIFIED:20250402T232155Z
UID:703-1744448400-1744455600@www.friendsofscnp.org
SUMMARY:Know Your Nature Neighbors (MIndfully)
DESCRIPTION:Join us as we find a few of the more than 2\,000 species that live at the preserve. We will use community science tools like iNaturalist (we can show you how)\, and we will talk about discovering the place while fully aware and attentive. \nWe also include taking field notes or nature journaling\, so please bring a notebook or journal. We will take up to two hours to walk and then stop to talk and explore on the trails. \nThis activity is appropriate for older kids\, teens\, and adults. Bring water and don’t forget a notebook! You can sign up for the activity at our Facebook page (https://www.facebook.com/FriendsofSCNP/) or by emailing events@friendsofSCNP.org. \nPlease check back with us the day before or morning of the event in case of any weather-related changes.
URL:https://www.friendsofscnp.org/event/know-your-nature-neighbors-4/
LOCATION:Sheri Capehart Nature Preserve\, 5201 Bowman Springs Rd.\, Arlington\, TX\, 76017
CATEGORIES:Mindfulness,Nature
ATTACH;FMTTYPE=image/jpeg:https://www.friendsofscnp.org/wp-content/uploads/2025/02/Northern-Mockingbird-Mimus-polyglottos-drawntoscales.jpeg
ORGANIZER;CN="Friends of Sheri Capehart Nature Preserve":MAILTO:events@friendsofscnp.org
END:VEVENT
END:VCALENDAR