BEGIN:VCALENDAR
VERSION:2.0
PRODID:-//Friends of Sheri Capehart Nature Preserve - ECPv6.15.18//NONSGML v1.0//EN
CALSCALE:GREGORIAN
METHOD:PUBLISH
X-ORIGINAL-URL:https://www.friendsofscnp.org
X-WR-CALDESC:Events for Friends of Sheri Capehart Nature Preserve
REFRESH-INTERVAL;VALUE=DURATION:PT1H
X-Robots-Tag:noindex
X-PUBLISHED-TTL:PT1H
BEGIN:VTIMEZONE
TZID:America/Chicago
BEGIN:DAYLIGHT
TZOFFSETFROM:-0600
TZOFFSETTO:-0500
TZNAME:CDT
DTSTART:20240310T080000
END:DAYLIGHT
BEGIN:STANDARD
TZOFFSETFROM:-0500
TZOFFSETTO:-0600
TZNAME:CST
DTSTART:20241103T070000
END:STANDARD
BEGIN:DAYLIGHT
TZOFFSETFROM:-0600
TZOFFSETTO:-0500
TZNAME:CDT
DTSTART:20250309T080000
END:DAYLIGHT
BEGIN:STANDARD
TZOFFSETFROM:-0500
TZOFFSETTO:-0600
TZNAME:CST
DTSTART:20251102T070000
END:STANDARD
BEGIN:DAYLIGHT
TZOFFSETFROM:-0600
TZOFFSETTO:-0500
TZNAME:CDT
DTSTART:20260308T080000
END:DAYLIGHT
BEGIN:STANDARD
TZOFFSETFROM:-0500
TZOFFSETTO:-0600
TZNAME:CST
DTSTART:20261101T070000
END:STANDARD
END:VTIMEZONE
BEGIN:VEVENT
DTSTART;TZID=America/Chicago:20250712T083000
DTEND;TZID=America/Chicago:20250712T100000
DTSTAMP:20260419T132149
CREATED:20250706T210450Z
LAST-MODIFIED:20250706T210450Z
UID:841-1752309000-1752314400@www.friendsofscnp.org
SUMMARY:Know Your Nature Neighbors
DESCRIPTION:We’ll take a walk and see what “neighbors” we can find – the frogs\, dragonflies\, oaks\, and other living things we share the preserve with. We’ll take photos to document what we find using the nature app “iNaturalist” – you’re invited to do this as well (we will show you how if you’re new to it) but you certainly don’t have to.\nWe will meet in the parking lot and get started at 8:30am. Please bring water and consider using insect repellent and sunscreen. This walk is for folks around 10 through adult – and if you have an older child (ten through teen\, if they’re interested in nature) that you want to bring\, a responsible adult must accompany them.
URL:https://www.friendsofscnp.org/event/know-your-nature-neighbors-7/
LOCATION:Sheri Capehart Nature Preserve\, 5201 Bowman Springs Rd.\, Arlington\, TX\, 76017
CATEGORIES:Mindfulness,Nature
ATTACH;FMTTYPE=image/jpeg:https://www.friendsofscnp.org/wp-content/uploads/2025/07/CommonFunnel.jpg
ORGANIZER;CN="Friends of Sheri Capehart Nature Preserve":MAILTO:events@friendsofscnp.org
END:VEVENT
END:VCALENDAR