BEGIN:VCALENDAR
VERSION:2.0
PRODID:-//Friends of Sheri Capehart Nature Preserve - ECPv6.15.20//NONSGML v1.0//EN
CALSCALE:GREGORIAN
METHOD:PUBLISH
X-ORIGINAL-URL:https://www.friendsofscnp.org
X-WR-CALDESC:Events for Friends of Sheri Capehart Nature Preserve
REFRESH-INTERVAL;VALUE=DURATION:PT1H
X-Robots-Tag:noindex
X-PUBLISHED-TTL:PT1H
BEGIN:VTIMEZONE
TZID:America/Chicago
BEGIN:DAYLIGHT
TZOFFSETFROM:-0600
TZOFFSETTO:-0500
TZNAME:CDT
DTSTART:20250309T080000
END:DAYLIGHT
BEGIN:STANDARD
TZOFFSETFROM:-0500
TZOFFSETTO:-0600
TZNAME:CST
DTSTART:20251102T070000
END:STANDARD
BEGIN:DAYLIGHT
TZOFFSETFROM:-0600
TZOFFSETTO:-0500
TZNAME:CDT
DTSTART:20260308T080000
END:DAYLIGHT
BEGIN:STANDARD
TZOFFSETFROM:-0500
TZOFFSETTO:-0600
TZNAME:CST
DTSTART:20261101T070000
END:STANDARD
BEGIN:DAYLIGHT
TZOFFSETFROM:-0600
TZOFFSETTO:-0500
TZNAME:CDT
DTSTART:20270314T080000
END:DAYLIGHT
BEGIN:STANDARD
TZOFFSETFROM:-0500
TZOFFSETTO:-0600
TZNAME:CST
DTSTART:20271107T070000
END:STANDARD
END:VTIMEZONE
BEGIN:VEVENT
DTSTART;TZID=America/Chicago:20260321T090000
DTEND;TZID=America/Chicago:20260321T120000
DTSTAMP:20260421T070529
CREATED:20260219T154554Z
LAST-MODIFIED:20260219T154554Z
UID:1027-1774083600-1774094400@www.friendsofscnp.org
SUMMARY:Third Saturday Volunteers
DESCRIPTION:The Friends of Sheri Capehart Nature Preserve schedule a once-a-month volunteer day on the third Saturday of the month. We tackle a wide variety of needs for the preserve. These include brush clearing\, seeding\, trail maintenance\, transplanting and trash pickup. Volunteers get to learn in depth about the preserve and its goals while contributing to sustaining and improving this treasured ecosystem. \nBring gloves\, appropriate apparel and bug repellent as needed. Meet in the parking lot.
URL:https://www.friendsofscnp.org/event/third-saturday-volunteers-10/
LOCATION:Sheri Capehart Nature Preserve\, 5201 Bowman Springs Rd.\, Arlington\, TX\, 76017
CATEGORIES:Nature,Volunteer
ATTACH;FMTTYPE=image/jpeg:https://www.friendsofscnp.org/wp-content/uploads/2025/10/3-Rudy-Arnold-working-the-Blue-Trail-e1771515930773.jpg
ORGANIZER;CN="Friends of Sheri Capehart Nature Preserve":MAILTO:events@friendsofscnp.org
END:VEVENT
BEGIN:VEVENT
DTSTART;TZID=America/Chicago:20260418T090000
DTEND;TZID=America/Chicago:20260418T120000
DTSTAMP:20260421T070529
CREATED:20260326T191358Z
LAST-MODIFIED:20260409T000314Z
UID:1096-1776502800-1776513600@www.friendsofscnp.org
SUMMARY:Third Saturday Volunteers / UTArlington Big Event
DESCRIPTION:The Friends of Sheri Capehart Nature Preserve schedule a once-a-month volunteer day on the third Saturday of the month. We tackle a wide variety of needs for the preserve. These include brush clearing\, seeding\, trail maintenance\, transplanting and trash pickup. Volunteers get to learn in depth about the preserve and its goals while contributing to sustaining and improving this treasured ecosystem. \nFor our regular 3rd Saturday volunteers\, please check on the plans for this month’s volunteer day. We might need some of our regular volunteers to help guide our Big Event volunteers. \nBring gloves\, appropriate apparel and bug repellent as needed. Meet in the parking lot.
URL:https://www.friendsofscnp.org/event/third-saturday-volunteers-11/
LOCATION:Sheri Capehart Nature Preserve\, 5201 Bowman Springs Rd.\, Arlington\, TX\, 76017
CATEGORIES:Nature,Volunteer
ATTACH;FMTTYPE=image/jpeg:https://www.friendsofscnp.org/wp-content/uploads/2026/03/P1060381-scaled.jpg
ORGANIZER;CN="Friends of Sheri Capehart Nature Preserve":MAILTO:events@friendsofscnp.org
END:VEVENT
BEGIN:VEVENT
DTSTART;TZID=America/Chicago:20260424T200000
DTEND;TZID=America/Chicago:20260424T213000
DTSTAMP:20260421T070529
CREATED:20260326T170617Z
LAST-MODIFIED:20260326T170617Z
UID:1091-1777060800-1777066200@www.friendsofscnp.org
SUMMARY:Frog Call Night
DESCRIPTION:On this Friday night during the City Nature Challenge\, we will take a walk at the preserve starting at 8pm and visit one or two of the ponds\, listening for frog calls. And along the way\, we can listen for owls\, watch for spiders weaving webs\, and be aware of anything else that is part of the community of living things. \nWe will be documenting what we find in iNaturalist\, adding to the total number of observations at the preserve (already over two thousand species have been identified). \nPlease register as “going” by emailing us at events@friendsofscnp.org or at our Facebook page if you plan to join us\, because we need to plan for how many will attend. Since we are starting at sunset\, it will not be very dark at first but will get darker – so please remember to bring a flashlight or headlamp. Also remember that the trails are primitive and walking carefully is more important in low light. \nThe preserve is open until 10pm\, so we will get back to the parking lot by about 9:30pm\, giving us enough time to wrap up and leave.
URL:https://www.friendsofscnp.org/event/frog-call-night/
LOCATION:Sheri Capehart Nature Preserve\, 5201 Bowman Springs Rd.\, Arlington\, TX\, 76017
CATEGORIES:Nature
ATTACH;FMTTYPE=image/jpeg:https://www.friendsofscnp.org/wp-content/uploads/2025/07/evening-walk-frog.jpg
ORGANIZER;CN="Friends of Sheri Capehart Nature Preserve":MAILTO:events@friendsofscnp.org
END:VEVENT
BEGIN:VEVENT
DTSTART;TZID=America/Chicago:20260425T090000
DTEND;TZID=America/Chicago:20260425T103000
DTSTAMP:20260421T070529
CREATED:20260326T172503Z
LAST-MODIFIED:20260326T190819Z
UID:1093-1777107600-1777113000@www.friendsofscnp.org
SUMMARY:Know Your Nature Neighbors
DESCRIPTION:On Saturday morning during the City Nature Challenge\, we will take a walk at the preserve and look for flowers\, insects\, lizards hanging out in the trees\, the trees themselves\, and all the other wonderful lives at the preserve. We will be documenting what we find in iNaturalist\, adding to the total number of observations for City Nature Challenge. \nPlease register as “going” by emailing us at events@friendsofscnp.org or find the event on our Facebook page if you plan to join us\, because we need to plan for how many will attend. Remember to bring water! And a camera\, if you like. We will show you how to use iNaturalist on your smartphone if you are new to the app – or you could just walk with us without using iNaturalist. \nThe walk is planned from 9:00-10:30am. We sometimes run a little overtime\, but we’ll make sure you get back to the parking lot by 10:30 if you need to. And if you are recording observations for City Nature Challenge and want to keep going\, then you’re absolutely welcome to stay as long as you wish (until 10pm!).
URL:https://www.friendsofscnp.org/event/know-your-nature-neighbors-9/
LOCATION:Sheri Capehart Nature Preserve\, 5201 Bowman Springs Rd.\, Arlington\, TX\, 76017
CATEGORIES:Nature
ATTACH;FMTTYPE=image/jpeg:https://www.friendsofscnp.org/wp-content/uploads/2026/03/P1060384-scaled.jpg
ORGANIZER;CN="Friends of Sheri Capehart Nature Preserve":MAILTO:events@friendsofscnp.org
END:VEVENT
BEGIN:VEVENT
DTSTART;TZID=America/Chicago:20260430T070000
DTEND;TZID=America/Chicago:20260430T203000
DTSTAMP:20260421T070529
CREATED:20260420T223535Z
LAST-MODIFIED:20260420T223535Z
UID:1125-1777532400-1777581000@www.friendsofscnp.org
SUMMARY:The Wild Lives of Texas' Reptiles & Amphibians
DESCRIPTION:The Wild Lives of Texas’ Reptiles & Amphibians \nFor those with a serious interest in these animals\, whether or not you have much experience or background. The content will have some depth without being very technical. Appropriate for nature enthusiasts\, Master Naturalists\, adults and teens. \nThis series of presentations focuses on the reptiles and amphibians of north Texas\, how they live in the wild\, how we can find and recognize them\, and how we can protect and conserve them. \nEach presentation uses PowerPoint to offer lots of photos\, offered via Zoom so that people can join from a variety of locations. Most presentations are 1.5 hours long with some time at the end for questions and answers. \nThe presentations are free and scheduled on Thursday evenings at 7:00pm\, every other Thursday. We encourage you to plan to attend the series (we will be adding each event date)\, but you can selectively attend one or more of them. The Zoom link is https://us02web.zoom.us/j/83930351943?pwd=UwMWySBAa467aZJ2d4W8aDPQmJUyQg.1 and the meeting ID: 839 3035 1943\, Passcode: 228084 \nThe presenter\, Michael Smith\, has field experience with these animals all over Texas and has written or co-authored two books on the subject (https://livesinnature.com/about/). \nThe sessions are as follows: \n4/30 – Part One: Getting Started \nWe will discuss what these animals are and introduce the topic of herpetology and things like scientific names and community science. We will also try to answer the question\, “what good are they?” We’ll also cover some essential skills in the field\, skills that can help participants find the animals safely. There are photos of a poison ivy\, bull nettle\, and our local venomous snakes. \n5/14 – Part Two: Amphibians \nWe’ll start with what makes a species an amphibian\, and the frogs\, toads\, and salamanders that represent this group in the U.S. The presentation offers photos of most of the species encountered in North Texas along with the calls of frogs and toads. We will talk about amphibian extinctions and the threats to their survival. \n5/28 – Part Three: Crocodilians and Turtles \nThese are the oldest reptiles in terms of evolution and paleontology. We will talk about our American alligator and its adaptation for aquatic life and get into the strange but successful structure of turtles and their shells. There are plenty of photos of most of our North Texas turtle species. We will discuss turtle conservation issues. \n6/11 – Part Four: Lizards and Snakes (two hours) \nWe will talk about the natural history of these species (why do some lizards’ tails break off\, and how do snakes move and swallow big food items?). Photos will illustrate representative species from each family\, including each of our venomous snakes. We also will discuss venomous snake bite. This presentation will be longer than the others\, probably until 9pm. \n6/25 – Part Five: Herp Conservation Challenges \nThese animals are facing severe conservation challenges. We will talk about how conservation scientists keep track of various species\, how federal and Texas state laws and policies may help protect them\, and we’ll take a good look at several representative Texas species. We will also take a look at how we\, as citizens and naturalists\, can help.
URL:https://www.friendsofscnp.org/event/the-wild-lives-of-texas-reptiles-amphibians/
LOCATION:Texas
CATEGORIES:Nature
END:VEVENT
END:VCALENDAR